BEGIN:VCALENDAR
VERSION:2.0
PRODID:-//WVU Alumni Triangle Area Chapter - ECPv6.15.20//NONSGML v1.0//EN
CALSCALE:GREGORIAN
METHOD:PUBLISH
X-ORIGINAL-URL:https://wvualumnitriangle.com
X-WR-CALDESC:Events for WVU Alumni Triangle Area Chapter
REFRESH-INTERVAL;VALUE=DURATION:PT1H
X-Robots-Tag:noindex
X-PUBLISHED-TTL:PT1H
BEGIN:VTIMEZONE
TZID:America/New_York
BEGIN:DAYLIGHT
TZOFFSETFROM:-0500
TZOFFSETTO:-0400
TZNAME:EDT
DTSTART:20240310T070000
END:DAYLIGHT
BEGIN:STANDARD
TZOFFSETFROM:-0400
TZOFFSETTO:-0500
TZNAME:EST
DTSTART:20241103T060000
END:STANDARD
BEGIN:DAYLIGHT
TZOFFSETFROM:-0500
TZOFFSETTO:-0400
TZNAME:EDT
DTSTART:20250309T070000
END:DAYLIGHT
BEGIN:STANDARD
TZOFFSETFROM:-0400
TZOFFSETTO:-0500
TZNAME:EST
DTSTART:20251102T060000
END:STANDARD
BEGIN:DAYLIGHT
TZOFFSETFROM:-0500
TZOFFSETTO:-0400
TZNAME:EDT
DTSTART:20260308T070000
END:DAYLIGHT
BEGIN:STANDARD
TZOFFSETFROM:-0400
TZOFFSETTO:-0500
TZNAME:EST
DTSTART:20261101T060000
END:STANDARD
END:VTIMEZONE
BEGIN:VEVENT
DTSTART;TZID=America/New_York:20251128T080000
DTEND;TZID=America/New_York:20251128T173000
DTSTAMP:20260419T124645
CREATED:20250810T012925Z
LAST-MODIFIED:20251130T022654Z
UID:1115-1764316800-1764351000@wvualumnitriangle.com
SUMMARY:2025 WVU FOOTBALL SCHEDULE
DESCRIPTION:2025 Football Schedule\n\n\nDate\nTime\nAt\nOpponent\nLocation\nTV\nRadio\nResult\nLinks\n\n\n\n\nAugust 30\, 2025 (Saturday)\n2:00 p.m.\nHome\nRobert Morris\nMorgantown\, W.Va. / Milan Puskar Stadium\n\n WON\n 45-3\n\n\nTickets\nREVELxp Full-Service Tailgates\n\n\n\n\nSeptember 6\, 2025 (Saturday)\n4:00 p.m.\nAway\nOhio\nAthens\, Ohio / Peden Stadium\n\n Lost\n10-17\n\n\n\nSeptember 13\, 2025 (Saturday)\n3:30 p.m.\nHome\nPitt\nMorgantown\, W.Va. / Milan Puskar Stadium\n\nWON\n 31-24\n\n\nTickets\nREVELxp Full-Service Tailgates\n\n\n\n\nSeptember 20\, 2025 (Saturday)\n6:00 p.m.\nAway\nKansas\nLawrence\, Kan. / David Booth Kansas Memorial Stadium\n FS1\nLost\n 10-41\n\n\n\nSeptember 27\, 2025 (Saturday)\n3:30 p.m.\nHome\nUtah\nMorgantown\, W.Va. / Milan Puskar Stadium\n FOX\n Lost\n14-48\n\n\nTickets\nREVELxp Full-Service Tailgates\n\n\n\n\nOctober 3\, 2025 (Friday)\n10:30 p.m.\nAway\nBYU\nProvo\, Utah / Lavelle Edwards Stadium\n\n Lost\n24-38\n\n\n\nOctober 18\, 2025 (Saturday)\nXXXX\nAway\nUCF\nOrlando\, Fla. / FBC Mortgage Stadium\n\n Lost\n 13-45\n\n\n\nOctober 25\, 2025 (Saturday)\n6:00 p.m.\nHome\nTCU\nMorgantown\, W.Va. / Milan Puskar Stadium – H/C\n \n Lost\n17-23\n\n\nTickets\nREVELxp Full-Service Tailgates\n\n\n\n\nNovember 1\, 2025 (Saturday)\nNoon ET\nAway\nHouston\nHouston\, Texas / TDECU Stadium\n FS1\n WON\n45-35\n\n\n\nNovember 8\, 2025 (Saturday)\nNoon ET\nHome\nColorado\nMorgantown\, W.Va. / Milan Puskar Stadium\nTNT\, TRU\n WON\n29-22\n\n\nTickets\nREVELxp Full-Service Tailgates\n\n\n\n\nNovember 15\, 2025 (Saturday)\n1:00 p.m.\nAway\nArizona State\nTempe\, Ariz. / Mountain America Stadium\nTNT\, TRU\n Lost\n23-25\n\n\n\nNovember 29\, 2025 (Saturday)\nNoon ET\nHome\nTexas Tech\nMorgantown\, W.Va. / Milan Puskar Stadium\n  \n Lost\n 0-49\n\n\nTickets\nREVELxp Full-Service Tailgates
URL:https://wvualumnitriangle.com/event/2025-wvu-football-schedule/
LOCATION:Carolina Ale House\, 7981 Skyland Ridge Pkwy\, Raleigh\, 27617
CATEGORIES:Game Watch
END:VEVENT
BEGIN:VEVENT
DTSTART;TZID=America/New_York:20251126T080000
DTEND;TZID=America/New_York:20251126T170000
DTSTAMP:20260419T124645
CREATED:20251112T192306Z
LAST-MODIFIED:20251124T200539Z
UID:1166-1764144000-1764176400@wvualumnitriangle.com
SUMMARY:2025-26 Men's Basketball Schedule
DESCRIPTION:October\n26\, 2025\n4 p.m.\n \nHome\nWheeling (exhibition)\nMorgantown\, W.Va. | Hope Coliseum\n\n\nW\, 80-54\n\n\n\nNovember\n04\, 2025\n7 p.m.\n \nHome\nMount St. Mary’s\nMorgantown\, W.Va. | Hope Coliseum\n\n\nW\, 70-54\n\n\n\nNovember\n06\, 2025\n7 p.m.\n \nHome\nCampbell\nMorgantown\, W.Va. | Hope Coliseum\n\n\nW\, 73-65\n\n\n\nNovember\n09\, 2025\n3 p.m.\n \nHome\nLehigh\nMorgantown\, W.Va. | Hope Coliseum\n\n\nW\, 69-47\n\n\n\nNovember\n13\, 2025\n6 p.m.\n \nHome\nPitt\nMorgantown\, W.Va. | Hope Coliseum\n\nW\, 71-49\n\n\nNovember\n17\, 2025\n7 p.m.\n \nHome\nLafayette\nMorgantown\, W.Va. | Hope Coliseum\n\nW\, 81-59\n\n\nNovember\n21\, 2025\n6:30 p.m.\n \nNeutral\nClemson\nCharleston\, S.C. | TD Arena\nShriners Children’s Charleston Classic\nL\, 67-70\n\n\nNovember\n23\, 2025\n1 or 3:30 p.m.\n \nNeutral\n Xavier\nCharleston\, S.C. | TD Arena\nShriners Children’s Charleston Classic\nL\, 68-78\n\n\nNovember\n30\, 2025\n3 p.m.\n  SUN\nHome\nMercyhurst\nMorgantown\, W.Va. | Hope Coliseum\n\n\n\n\nDecember\n03\, 2025\n7 p.m.\n WED\nHome\nCoppin State\nMorgantown\, W.Va. | Hope Coliseum\n\n\n\n\nDecember\n06\, 2025\n6 p.m.\n  SAT\nNeutral\nWake Forest\nCharleston\, W.Va. | Charleston Coliseum\nHoliday Hoopfest\n\n\n\nDecember\n09\, 2025\n7 p.m.\n TUES\nHome\nLittle Rock\nMorgantown\, W.Va. | Hope Coliseum\n\n\n\n\nDecember\n13\, 2025\n8 p.m.\n SAT\nNeutral\nOhio State\nCleveland\, Ohio | Rocket Arena\nCleveland Hoops Showdown\n\n\n\nDecember\n22\, 2025\n7 p.m.\n MON\nHome\nMississippi Valley State\nMorgantown\, W.Va. | Hope Coliseum\n\n\n\n\nJanuary\n02\, 2026\n9 p.m.\n  FRI\nAway\nIowa State\nAmes\, Iowa | Hilton Coliseum\n\n\n\n\nJanuary\n06\, 2026\n7 p.m.\n TUES\nHome\nCincinnati\nMorgantown\, W.Va. | Hope Coliseum\n\n\n\n\nJanuary\n10\, 2026\nNoon\n  SAT\nHome\nKansas\nMorgantown\, W.Va. | Hope Coliseum\n\n\n\n\nJanuary\n13\, 2026\n8:30 p.m.\n  TUES\nAway\nHouston\nHouston\, Texas | Fertitta Center\n\n\n\n\nJanuary\n17\, 2026\n6 p.m.\n  SAT\nHome\nColorado\nMorgantown\, W.Va. | Hope Coliseum\n\n\n\n\nJanuary\n21\, 2026\n9 p.m.\n  WED\nAway\nArizona State\nTempe\, Ariz. | Desert Financial Arena\n\n\n\n\nJanuary\n24\, 2026\n2 p.m.\n  SAT\nAway\nArizona\nTucson\, Ariz. | McKale Center\n\n\n\n\nJanuary\n27\, 2026\n8:30 p.m.\n TUES\nHome\nKansas State\nMorgantown\, W.Va. | Hope Coliseum\n\n\n\n\nJanuary\n31\, 2026\n4 p.m.\n  SAT\nHome\nBaylor\nMorgantown\, W.Va. | Hope Coliseum\n\n\n\n\nFebruary\n05\, 2026\n7 p.m.\n THUR\nAway\nCincinnati\nCincinnati\, Ohio | Fifth Third Arena\n\n\n\n\nFebruary\n08\, 2026\n1 p.m.\n  SUN\nHome\nTexas Tech\nMorgantown\, W.Va. | Hope Coliseum\n\n\n\n\nFebruary\n14\, 2026\n6 p.m.\n  SAT\nAway\nUCF\nOrlando\, Fla. | Addition Financial Arena\n\n\n\n\nFebruary\n18\, 2026\n8:30 p.m.\n  WED\nHome\nUtah\nMorgantown\, W.Va. | Hope Coliseum\n\n\n\n\nFebruary\n21\, 2026\n5 p.m.\n  SAT\nAway\nTCU\nFort Worth\, Texas | Schollmaier Arena\n\n\n\n\nFebruary\n24\, 2026\n7 p.m.\n  TUES\nAway\nOklahoma State\nStillwater\, Okla. | Gallagher-Iba Arena\n\n\n\n\nFebruary\n28\, 2026\n5:30 p.m.\n  SAT\nHome\nBYU\nMorgantown\, W.Va. | Hope Coliseum\n\n\n\n\nMarch\n03\, 2026\n8 p.m.\n  TUES\nAway\nKansas State\nManhattan\, Kan. | Bramlage Coliseum\n\n\n\n\nMarch\n06\, 2026\n8 p.m.\n  FRI\nHome\nUCF\nMorgantown\, W.Va. | Hope Coliseum\n\n\n\n\nMarch\n10\, 2026\nTBD\nMarch\n14\, 2026\nNeutral\nPhillips 66 Big 12 Championship\nKansas City\, Mo. | T-Mobile Center\nPhillips 66 Big 12 Championship
URL:https://wvualumnitriangle.com/event/2025-26-mens-basketball-schedule/
CATEGORIES:Game Watch
END:VEVENT
BEGIN:VEVENT
DTSTART;TZID=America/New_York:20250904T080000
DTEND;TZID=America/New_York:20250904T170000
DTSTAMP:20260419T124645
CREATED:20221024T012225Z
LAST-MODIFIED:20250810T013222Z
UID:922-1756972800-1757005200@wvualumnitriangle.com
SUMMARY:Chapter Membership
DESCRIPTION:Please consider joining our Chapter for the year  \nHere is the link to join or rejoin online at our square store:  https://wvu-triangle-area-chapter.square.site/ . This membership is good from September 1 of one year to August 31 of the next.  We sponsor scholarships for students in the area to help with their expenses. The money comes from our activities including membership and raffles.  Covid has kept us from adding as much to the funds as we would like.  If you join\, you will have discounts to some chapter activities during the year and voting privileges in the chapter. Our membership fee hasn’t changed in over 20 years: $20 for individual and $30 for families.   All our raffles are done with items donated from folks\, so it’s free and clear money.  We hope you can participate in some way.  We really hope to see new and old faces all season this year.  Let’s go!!! \n\n\n\n\n\n\n\nWVU ALUMNI Triangle Area Chapter\nServing Alumni\, Friends\, and Fans in the Triangle Area of NC\n2024– 2025 MEMBERSHIP DUES\n(FISCAL YEAR: SEPT. 1\, 2025 to Aug. 31\, 2026\nIndividual – $20.00 Family – $30.00\n(Please make check payable to WVU Alumni Triangle Area Chapter)\nSnail mail to 4205 Pittsford Rd\, Raleigh\, NC\nYOUR MEMBERSHIP FEES INCLUDE:\nAT LEAST ONE HALF IS CONTRIBUTED DIRECTLY TO OUR SCHOLARSHIP FUND\nDISCOUNTS ON ADMITTANCE TO CHAPTER ACTIVITIES DURING THE YEAR\nVOTING PRIVILEGES ON CHAPTER MATTERS\n\nName(s):\nAddress:\nCity\, State\, Zip:\nTelephone No: Home:\nEmail Address:\n\nOriginal Home Town:\n\n(TO BE COMPLETED IF ALUMNUS)\nMajor Class Year\n\nPLEASE CHECK ANY COMMITTEES YOU MAY BE INTERESTED IN JOINING:\nMEMBERSHIP ADOPT-A-HIGHWAY PUBLIC RELATIONS\nFUND RAISING WEB DEVELOPMENT HIGH SCHOOL RECRUITING\nSOCIAL NEWSLETTER\nTo be filled out by Membership Committee:\nMembership Dues Paid: Individual Membership____________ Family __________________\nDate: ___________________________ Method of Payment:___________________________\n\nSocial____ Ex____________\n\nEM____________
URL:https://wvualumnitriangle.com/event/chapter-membership/
END:VEVENT
END:VCALENDAR